BEGIN:VCALENDAR
VERSION:2.0
PRODID:-//Gainesville Area Chamber of Commerce - ECPv6.15.20//NONSGML v1.0//EN
CALSCALE:GREGORIAN
METHOD:PUBLISH
X-ORIGINAL-URL:https://gainesvillecofc.com
X-WR-CALDESC:Events for Gainesville Area Chamber of Commerce
REFRESH-INTERVAL;VALUE=DURATION:PT1H
X-Robots-Tag:noindex
X-PUBLISHED-TTL:PT1H
BEGIN:VTIMEZONE
TZID:America/Chicago
BEGIN:DAYLIGHT
TZOFFSETFROM:-0600
TZOFFSETTO:-0500
TZNAME:CDT
DTSTART:20230312T080000
END:DAYLIGHT
BEGIN:STANDARD
TZOFFSETFROM:-0500
TZOFFSETTO:-0600
TZNAME:CST
DTSTART:20231105T070000
END:STANDARD
BEGIN:DAYLIGHT
TZOFFSETFROM:-0600
TZOFFSETTO:-0500
TZNAME:CDT
DTSTART:20240310T080000
END:DAYLIGHT
BEGIN:STANDARD
TZOFFSETFROM:-0500
TZOFFSETTO:-0600
TZNAME:CST
DTSTART:20241103T070000
END:STANDARD
BEGIN:DAYLIGHT
TZOFFSETFROM:-0600
TZOFFSETTO:-0500
TZNAME:CDT
DTSTART:20250309T080000
END:DAYLIGHT
BEGIN:STANDARD
TZOFFSETFROM:-0500
TZOFFSETTO:-0600
TZNAME:CST
DTSTART:20251102T070000
END:STANDARD
END:VTIMEZONE
BEGIN:VEVENT
DTSTART;TZID=America/Chicago:20240213T074500
DTEND;TZID=America/Chicago:20240213T090000
DTSTAMP:20260423T062915
CREATED:20231115T204626Z
LAST-MODIFIED:20231115T204626Z
UID:5011-1707810300-1707814800@gainesvillecofc.com
SUMMARY:Rise & Shine Hosted by Curis Functional Health
DESCRIPTION:
URL:https://gainesvillecofc.com/event/rise-shine-hosted-by-curis-functional-health/
LOCATION:Gainesville Civic Center\, 311 S. Weaver Street\, Gainesville\, TX\, 76240\, United States
END:VEVENT
BEGIN:VEVENT
DTSTART;TZID=America/Chicago:20240222T170000
DTEND;TZID=America/Chicago:20240222T190000
DTSTAMP:20260423T062915
CREATED:20231114T185709Z
LAST-MODIFIED:20231114T185709Z
UID:4909-1708621200-1708628400@gainesvillecofc.com
SUMMARY:Chamber Mixer Hosted by Kayson's Candy Co.
DESCRIPTION:
URL:https://gainesvillecofc.com/event/chamber-mixer-hosted-by-kaysons-candy-co/
LOCATION:Kayson’s Candy Co.\, 109 N. Commerce St.\, Gainesville\, TX\, 76240\, United States
END:VEVENT
BEGIN:VEVENT
DTSTART;TZID=America/Chicago:20240227T074500
DTEND;TZID=America/Chicago:20240227T090000
DTSTAMP:20260423T062915
CREATED:20231115T204709Z
LAST-MODIFIED:20231115T204709Z
UID:5013-1709019900-1709024400@gainesvillecofc.com
SUMMARY:Rise & Shine Hosted by Valhalla Contracting
DESCRIPTION:
URL:https://gainesvillecofc.com/event/rise-shine-hosted-by-valhalla-contracting/
LOCATION:Gainesville Civic Center\, 311 S. Weaver Street\, Gainesville\, TX\, 76240\, United States
END:VEVENT
BEGIN:VEVENT
DTSTART;TZID=America/Chicago:20240229T113000
DTEND;TZID=America/Chicago:20240229T130000
DTSTAMP:20260423T062915
CREATED:20240131T170001Z
LAST-MODIFIED:20240131T170001Z
UID:5087-1709206200-1709211600@gainesvillecofc.com
SUMMARY:Chamber Annual Meeting & Awards Banquet
DESCRIPTION:
URL:https://gainesvillecofc.com/event/chamber-annual-meeting-awards-banquet/
LOCATION:North Central Texas College
END:VEVENT
END:VCALENDAR